BEGIN:VCALENDAR
VERSION:2.0
PRODID:-//Tukios.com/
BEGIN:VEVENT
UID:ac530427-6431-483f-8014-c337c6a30575@www.knjonesmemorialcare.com
DTSTAMP:20260422T090411Z
DTSTART:20260418T160000Z
DTEND:20260418T170000Z
SUMMARY:Flower Delivery
DESCRIPTION:
URL:https://www.knjonesmemorialcare.com/obituaries/eric-maniace
LOCATION: 112 S Graham St  Chapel Hill NC 27516
GEO:35.9091035;-79.0641746
END:VEVENT
END:VCALENDAR