BEGIN:VCALENDAR
VERSION:2.0
PRODID:-//Tukios.com/
BEGIN:VEVENT
UID:aa167b6e-d3f8-4f6f-a11a-225b20b0086d@www.knjonesmemorialcare.com
DTSTAMP:20260420T124719Z
DTSTART:20260419T170000Z
DTEND:20260419T180000Z
SUMMARY:Memorial Service
DESCRIPTION:
URL:https://www.knjonesmemorialcare.com/obituaries/eric-maniace
LOCATION: 112 S Graham St  Chapel Hill NC 27516
GEO:35.9091035;-79.0641746
END:VEVENT
END:VCALENDAR